BEGIN:VCALENDAR
VERSION:2.0
PRODID:-//George Street Middle School - ECPv6.15.20//NONSGML v1.0//EN
CALSCALE:GREGORIAN
METHOD:PUBLISH
X-WR-CALNAME:George Street Middle School
X-ORIGINAL-URL:https://georgest.nbed.ca
X-WR-CALDESC:Events for George Street Middle School
REFRESH-INTERVAL;VALUE=DURATION:PT1H
X-Robots-Tag:noindex
X-PUBLISHED-TTL:PT1H
BEGIN:VTIMEZONE
TZID:America/Moncton
BEGIN:DAYLIGHT
TZOFFSETFROM:-0400
TZOFFSETTO:-0300
TZNAME:ADT
DTSTART:20250309T060000
END:DAYLIGHT
BEGIN:STANDARD
TZOFFSETFROM:-0300
TZOFFSETTO:-0400
TZNAME:AST
DTSTART:20251102T050000
END:STANDARD
BEGIN:DAYLIGHT
TZOFFSETFROM:-0400
TZOFFSETTO:-0300
TZNAME:ADT
DTSTART:20260308T060000
END:DAYLIGHT
BEGIN:STANDARD
TZOFFSETFROM:-0300
TZOFFSETTO:-0400
TZNAME:AST
DTSTART:20261101T050000
END:STANDARD
BEGIN:DAYLIGHT
TZOFFSETFROM:-0400
TZOFFSETTO:-0300
TZNAME:ADT
DTSTART:20270314T060000
END:DAYLIGHT
BEGIN:STANDARD
TZOFFSETFROM:-0300
TZOFFSETTO:-0400
TZNAME:AST
DTSTART:20271107T050000
END:STANDARD
END:VTIMEZONE
BEGIN:VEVENT
DTSTART;TZID=America/Moncton:20260313T000000
DTEND;TZID=America/Moncton:20260313T235959
DTSTAMP:20260426T012726
CREATED:20251204T174150Z
LAST-MODIFIED:20251204T174152Z
UID:10000179-1773360000-1773446399@georgest.nbed.ca
SUMMARY:PL Day - No School
DESCRIPTION:
URL:https://georgest.nbed.ca/calendar/pl-day-no-school/
END:VEVENT
BEGIN:VEVENT
DTSTART;TZID=America/Moncton:20260316T000000
DTEND;TZID=America/Moncton:20260316T235959
DTSTAMP:20260426T012726
CREATED:20260309T154804Z
LAST-MODIFIED:20260309T154805Z
UID:10000183-1773619200-1773705599@georgest.nbed.ca
SUMMARY:Pi Day Recitation Contest
DESCRIPTION:
URL:https://georgest.nbed.ca/calendar/pi-day-recitation-contest/
END:VEVENT
BEGIN:VEVENT
DTSTART;TZID=America/Moncton:20260330T000000
DTEND;TZID=America/Moncton:20260330T235959
DTSTAMP:20260426T012726
CREATED:20251204T180244Z
LAST-MODIFIED:20251204T180246Z
UID:10000180-1774828800-1774915199@georgest.nbed.ca
SUMMARY:Report Cards Issued
DESCRIPTION:
URL:https://georgest.nbed.ca/calendar/report-cards-issued-2/
END:VEVENT
BEGIN:VEVENT
DTSTART;TZID=America/Moncton:20260401T173000
DTEND;TZID=America/Moncton:20260401T193000
DTSTAMP:20260426T012726
CREATED:20260309T155518Z
LAST-MODIFIED:20260316T160057Z
UID:10000184-1775064600-1775071800@georgest.nbed.ca
SUMMARY:Parent/Teacher Interviews - evening
DESCRIPTION:
URL:https://georgest.nbed.ca/calendar/parent-teacher-interviews-evening/
END:VEVENT
BEGIN:VEVENT
DTSTART;TZID=America/Moncton:20260402T000000
DTEND;TZID=America/Moncton:20260402T235959
DTSTAMP:20260426T012726
CREATED:20251204T180410Z
LAST-MODIFIED:20251204T180750Z
UID:10000181-1775088000-1775174399@georgest.nbed.ca
SUMMARY:PL Day - No School
DESCRIPTION:
URL:https://georgest.nbed.ca/calendar/pl-day-3/
END:VEVENT
BEGIN:VEVENT
DTSTART;TZID=America/Moncton:20260402T083000
DTEND;TZID=America/Moncton:20260402T114000
DTSTAMP:20260426T012726
CREATED:20260309T155714Z
LAST-MODIFIED:20260316T160330Z
UID:10000185-1775118600-1775130000@georgest.nbed.ca
SUMMARY:Parent/Teacher Interviews - morning
DESCRIPTION:
URL:https://georgest.nbed.ca/calendar/parent-teacher-interviews-morning/
END:VEVENT
BEGIN:VEVENT
DTSTART;TZID=America/Moncton:20260403T000000
DTEND;TZID=America/Moncton:20260403T235959
DTSTAMP:20260426T012726
CREATED:20251204T180724Z
LAST-MODIFIED:20251204T180726Z
UID:10000182-1775174400-1775260799@georgest.nbed.ca
SUMMARY:Good Friday - No School
DESCRIPTION:
URL:https://georgest.nbed.ca/calendar/good-friday-no-school/
END:VEVENT
BEGIN:VEVENT
DTSTART;TZID=America/Moncton:20260406T000000
DTEND;TZID=America/Moncton:20260406T235959
DTSTAMP:20260426T012726
CREATED:20260309T160209Z
LAST-MODIFIED:20260309T160211Z
UID:10000186-1775433600-1775519999@georgest.nbed.ca
SUMMARY:Easter - No School
DESCRIPTION:
URL:https://georgest.nbed.ca/calendar/easter-no-school/
END:VEVENT
BEGIN:VEVENT
DTSTART;TZID=America/Moncton:20260424T190000
DTEND;TZID=America/Moncton:20260424T190000
DTSTAMP:20260426T012726
CREATED:20260309T160857Z
LAST-MODIFIED:20260309T160859Z
UID:10000187-1777057200-1777057200@georgest.nbed.ca
SUMMARY:Beauty and the Beast Musical Production - public performance
DESCRIPTION:Doors open at 6:30.  Tickets available in advance at the office\, or at the door.
URL:https://georgest.nbed.ca/calendar/beauty-and-the-beast-musical-production-public-performance/
END:VEVENT
BEGIN:VEVENT
DTSTART;TZID=America/Moncton:20260425T190000
DTEND;TZID=America/Moncton:20260425T190000
DTSTAMP:20260426T012726
CREATED:20260309T161233Z
LAST-MODIFIED:20260309T161234Z
UID:10000188-1777143600-1777143600@georgest.nbed.ca
SUMMARY:Beauty and the Beast Musical Production - public performance
DESCRIPTION:Doors open at 6:30. Tickets available in advance at the office\, or at the door.
URL:https://georgest.nbed.ca/calendar/beauty-and-the-beast-musical-production-public-performance-2/
END:VEVENT
BEGIN:VEVENT
DTSTART;TZID=America/Moncton:20260501T000000
DTEND;TZID=America/Moncton:20260501T235959
DTSTAMP:20260426T012726
CREATED:20260309T161713Z
LAST-MODIFIED:20260309T161715Z
UID:10000189-1777593600-1777679999@georgest.nbed.ca
SUMMARY:PL Day - no school for students
DESCRIPTION:
URL:https://georgest.nbed.ca/calendar/pl-day-no-school-for-students-2/
END:VEVENT
BEGIN:VEVENT
DTSTART;TZID=America/Moncton:20260507T000000
DTEND;TZID=America/Moncton:20260507T235959
DTSTAMP:20260426T012726
CREATED:20260310T133404Z
LAST-MODIFIED:20260310T133406Z
UID:10000194-1778112000-1778198399@georgest.nbed.ca
SUMMARY:School Showcase evening
DESCRIPTION:
URL:https://georgest.nbed.ca/calendar/school-showcase-evening/
END:VEVENT
BEGIN:VEVENT
DTSTART;TZID=America/Moncton:20260511T000000
DTEND;TZID=America/Moncton:20260511T235959
DTSTAMP:20260426T012726
CREATED:20260309T161807Z
LAST-MODIFIED:20260309T161808Z
UID:10000190-1778457600-1778543999@georgest.nbed.ca
SUMMARY:PL Day - no school for students
DESCRIPTION:
URL:https://georgest.nbed.ca/calendar/pl-day-no-school-for-students-3/
END:VEVENT
BEGIN:VEVENT
DTSTART;TZID=America/Moncton:20260518T000000
DTEND;TZID=America/Moncton:20260518T235959
DTSTAMP:20260426T012726
CREATED:20260309T161859Z
LAST-MODIFIED:20260309T161901Z
UID:10000191-1779062400-1779148799@georgest.nbed.ca
SUMMARY:Victoria Day - no school for students
DESCRIPTION:
URL:https://georgest.nbed.ca/calendar/victoria-day-no-school-for-students/
END:VEVENT
BEGIN:VEVENT
DTSTART;TZID=America/Moncton:20260615T000000
DTEND;TZID=America/Moncton:20260617T235959
DTSTAMP:20260426T012726
CREATED:20260309T163637Z
LAST-MODIFIED:20260309T163639Z
UID:10000193-1781481600-1781740799@georgest.nbed.ca
SUMMARY:Grade 8 Quebec Trip
DESCRIPTION:
URL:https://georgest.nbed.ca/calendar/grade-8-quebec-trip-3/
END:VEVENT
BEGIN:VEVENT
DTSTART;TZID=America/Moncton:20260619T000000
DTEND;TZID=America/Moncton:20260619T235959
DTSTAMP:20260426T012726
CREATED:20260309T162304Z
LAST-MODIFIED:20260309T162306Z
UID:10000192-1781827200-1781913599@georgest.nbed.ca
SUMMARY:Last Day of School
DESCRIPTION:
URL:https://georgest.nbed.ca/calendar/last-day-of-school/
END:VEVENT
END:VCALENDAR