BEGIN:VCALENDAR
VERSION:2.0
PRODID:-//George Street Middle School - ECPv6.15.20//NONSGML v1.0//EN
CALSCALE:GREGORIAN
METHOD:PUBLISH
X-WR-CALNAME:George Street Middle School
X-ORIGINAL-URL:https://georgest.nbed.ca
X-WR-CALDESC:Events for George Street Middle School
REFRESH-INTERVAL;VALUE=DURATION:PT1H
X-Robots-Tag:noindex
X-PUBLISHED-TTL:PT1H
BEGIN:VTIMEZONE
TZID:America/Moncton
BEGIN:DAYLIGHT
TZOFFSETFROM:-0400
TZOFFSETTO:-0300
TZNAME:ADT
DTSTART:20230312T060000
END:DAYLIGHT
BEGIN:STANDARD
TZOFFSETFROM:-0300
TZOFFSETTO:-0400
TZNAME:AST
DTSTART:20231105T050000
END:STANDARD
BEGIN:DAYLIGHT
TZOFFSETFROM:-0400
TZOFFSETTO:-0300
TZNAME:ADT
DTSTART:20240310T060000
END:DAYLIGHT
BEGIN:STANDARD
TZOFFSETFROM:-0300
TZOFFSETTO:-0400
TZNAME:AST
DTSTART:20241103T050000
END:STANDARD
BEGIN:DAYLIGHT
TZOFFSETFROM:-0400
TZOFFSETTO:-0300
TZNAME:ADT
DTSTART:20250309T060000
END:DAYLIGHT
BEGIN:STANDARD
TZOFFSETFROM:-0300
TZOFFSETTO:-0400
TZNAME:AST
DTSTART:20251102T050000
END:STANDARD
BEGIN:DAYLIGHT
TZOFFSETFROM:-0400
TZOFFSETTO:-0300
TZNAME:ADT
DTSTART:20260308T060000
END:DAYLIGHT
BEGIN:STANDARD
TZOFFSETFROM:-0300
TZOFFSETTO:-0400
TZNAME:AST
DTSTART:20261101T050000
END:STANDARD
END:VTIMEZONE
BEGIN:VEVENT
DTSTART;TZID=America/Moncton:20250505T000000
DTEND;TZID=America/Moncton:20250509T235959
DTSTAMP:20260425T222447
CREATED:20250130T150724Z
LAST-MODIFIED:20250130T150725Z
UID:10000151-1746403200-1746835199@georgest.nbed.ca
SUMMARY:Teacher Appreciation Week
DESCRIPTION:
URL:https://georgest.nbed.ca/calendar/teacher-appreciation-week-2/
END:VEVENT
BEGIN:VEVENT
DTSTART;TZID=America/Moncton:20250502T000000
DTEND;TZID=America/Moncton:20250502T235959
DTSTAMP:20260425T222447
CREATED:20250130T143534Z
LAST-MODIFIED:20250130T144352Z
UID:10000149-1746144000-1746230399@georgest.nbed.ca
SUMMARY:Professional Learning Day
DESCRIPTION:No School for students.
URL:https://georgest.nbed.ca/calendar/pl-day-2/
END:VEVENT
BEGIN:VEVENT
DTSTART;TZID=America/Moncton:20250424T000000
DTEND;TZID=America/Moncton:20250424T235959
DTSTAMP:20260425T222447
CREATED:20250128T180830Z
LAST-MODIFIED:20250128T180832Z
UID:10000137-1745452800-1745539199@georgest.nbed.ca
SUMMARY:School Dance
DESCRIPTION:
URL:https://georgest.nbed.ca/calendar/school-dance/
END:VEVENT
BEGIN:VEVENT
DTSTART;TZID=America/Moncton:20250421T000000
DTEND;TZID=America/Moncton:20250421T235959
DTSTAMP:20260425T222447
CREATED:20250129T201057Z
LAST-MODIFIED:20250129T201058Z
UID:10000148-1745193600-1745279999@georgest.nbed.ca
SUMMARY:Easter Monday
DESCRIPTION:No school for students.
URL:https://georgest.nbed.ca/calendar/easter-monday-3/
END:VEVENT
BEGIN:VEVENT
DTSTART;TZID=America/Moncton:20250418T000000
DTEND;TZID=America/Moncton:20250418T235959
DTSTAMP:20260425T222447
CREATED:20250129T200951Z
LAST-MODIFIED:20250129T200952Z
UID:10000147-1744934400-1745020799@georgest.nbed.ca
SUMMARY:Good Friday
DESCRIPTION:No school for students
URL:https://georgest.nbed.ca/calendar/good-friday-3/
END:VEVENT
BEGIN:VEVENT
DTSTART;TZID=America/Moncton:20250415T000000
DTEND;TZID=America/Moncton:20250415T235959
DTSTAMP:20260425T222447
CREATED:20250129T200603Z
LAST-MODIFIED:20250129T200605Z
UID:10000145-1744675200-1744761599@georgest.nbed.ca
SUMMARY:Career Day
DESCRIPTION:
URL:https://georgest.nbed.ca/calendar/career-day/
END:VEVENT
BEGIN:VEVENT
DTSTART;TZID=America/Moncton:20250411T000000
DTEND;TZID=America/Moncton:20250411T235959
DTSTAMP:20260425T222447
CREATED:20250130T144145Z
LAST-MODIFIED:20250130T144147Z
UID:10000150-1744329600-1744415999@georgest.nbed.ca
SUMMARY:Professional Learning Day
DESCRIPTION:No school for students.
URL:https://georgest.nbed.ca/calendar/professional-learning-day-2/
END:VEVENT
BEGIN:VEVENT
DTSTART;TZID=America/Moncton:20250411T000000
DTEND;TZID=America/Moncton:20250411T235959
DTSTAMP:20260425T222447
CREATED:20250129T200024Z
LAST-MODIFIED:20250130T143859Z
UID:10000144-1744329600-1744415999@georgest.nbed.ca
SUMMARY:Parent/Teacher Conferences
DESCRIPTION:No School for Students
URL:https://georgest.nbed.ca/calendar/parent-teacher-conferences-morning/
END:VEVENT
BEGIN:VEVENT
DTSTART;TZID=America/Moncton:20250410T000000
DTEND;TZID=America/Moncton:20250410T235959
DTSTAMP:20260425T222447
CREATED:20250129T195921Z
LAST-MODIFIED:20250129T200125Z
UID:10000143-1744243200-1744329599@georgest.nbed.ca
SUMMARY:Evening Parent/Teacher Conferences
DESCRIPTION:
URL:https://georgest.nbed.ca/calendar/parent-teacher-conferences-evening/
END:VEVENT
BEGIN:VEVENT
DTSTART;TZID=America/Moncton:20250407T000000
DTEND;TZID=America/Moncton:20250407T235959
DTSTAMP:20260425T222447
CREATED:20250129T195719Z
LAST-MODIFIED:20250129T195720Z
UID:10000142-1743984000-1744070399@georgest.nbed.ca
SUMMARY:Report Cards Issued
DESCRIPTION:
URL:https://georgest.nbed.ca/calendar/report-cards-issued/
END:VEVENT
BEGIN:VEVENT
DTSTART;TZID=America/Moncton:20250405T000000
DTEND;TZID=America/Moncton:20250405T235959
DTSTAMP:20260425T222447
CREATED:20250129T142420Z
LAST-MODIFIED:20250129T142422Z
UID:10000141-1743811200-1743897599@georgest.nbed.ca
SUMMARY:GSMS Production
DESCRIPTION:Evening showing of The Adam’s Family
URL:https://georgest.nbed.ca/calendar/gsms-production-2/
END:VEVENT
BEGIN:VEVENT
DTSTART;TZID=America/Moncton:20250404T000000
DTEND;TZID=America/Moncton:20250404T235959
DTSTAMP:20260425T222447
CREATED:20250129T142300Z
LAST-MODIFIED:20250129T142302Z
UID:10000140-1743724800-1743811199@georgest.nbed.ca
SUMMARY:GSMS Production
DESCRIPTION:Evening showing of The Adams Family
URL:https://georgest.nbed.ca/calendar/gsms-production/
END:VEVENT
BEGIN:VEVENT
DTSTART;TZID=America/Moncton:20250328T000000
DTEND;TZID=America/Moncton:20250328T235959
DTSTAMP:20260425T222447
CREATED:20250128T181252Z
LAST-MODIFIED:20250128T181253Z
UID:10000139-1743120000-1743206399@georgest.nbed.ca
SUMMARY:Professional Learning Day
DESCRIPTION:No School for Students
URL:https://georgest.nbed.ca/calendar/professional-learning-day/
END:VEVENT
BEGIN:VEVENT
DTSTART;TZID=America/Moncton:20250314T000000
DTEND;TZID=America/Moncton:20250314T235959
DTSTAMP:20260425T222447
CREATED:20250128T181055Z
LAST-MODIFIED:20250128T181517Z
UID:10000138-1741910400-1741996799@georgest.nbed.ca
SUMMARY:International Pi Day
DESCRIPTION:
URL:https://georgest.nbed.ca/calendar/pi-day/
END:VEVENT
BEGIN:VEVENT
DTSTART;TZID=America/Moncton:20250303T000000
DTEND;TZID=America/Moncton:20250307T235959
DTSTAMP:20260425T222447
CREATED:20250128T180626Z
LAST-MODIFIED:20250128T180628Z
UID:10000136-1740960000-1741391999@georgest.nbed.ca
SUMMARY:March Break
DESCRIPTION:No School
URL:https://georgest.nbed.ca/calendar/march-break-3/
END:VEVENT
BEGIN:VEVENT
DTSTART;TZID=America/Moncton:20250226T000000
DTEND;TZID=America/Moncton:20250226T235959
DTSTAMP:20260425T222447
CREATED:20250128T180357Z
LAST-MODIFIED:20250128T180359Z
UID:10000135-1740528000-1740614399@georgest.nbed.ca
SUMMARY:Pink Shirt Day
DESCRIPTION:
URL:https://georgest.nbed.ca/calendar/pink-shirt-day/
END:VEVENT
BEGIN:VEVENT
DTSTART;TZID=America/Moncton:20250220T183000
DTEND;TZID=America/Moncton:20250220T203000
DTSTAMP:20260425T222447
CREATED:20250128T175151Z
LAST-MODIFIED:20250218T154533Z
UID:10000133-1740076200-1740083400@georgest.nbed.ca
SUMMARY:School Dance
DESCRIPTION:
URL:https://georgest.nbed.ca/calendar/dance-2/
END:VEVENT
BEGIN:VEVENT
DTSTART;TZID=America/Moncton:20250217T000000
DTEND;TZID=America/Moncton:20250217T235959
DTSTAMP:20260425T222447
CREATED:20250128T175733Z
LAST-MODIFIED:20250128T175734Z
UID:10000134-1739750400-1739836799@georgest.nbed.ca
SUMMARY:Family Day
DESCRIPTION:
URL:https://georgest.nbed.ca/calendar/family-day-3/
END:VEVENT
BEGIN:VEVENT
DTSTART;TZID=America/Moncton:20250210T000000
DTEND;TZID=America/Moncton:20250214T235959
DTSTAMP:20260425T222447
CREATED:20250128T174850Z
LAST-MODIFIED:20250128T174852Z
UID:10000131-1739145600-1739577599@georgest.nbed.ca
SUMMARY:Staff Appreciation Week
DESCRIPTION:
URL:https://georgest.nbed.ca/calendar/staff-appreciation-week/
END:VEVENT
BEGIN:VEVENT
DTSTART;TZID=America/Moncton:20250131T000000
DTEND;TZID=America/Moncton:20250131T235959
DTSTAMP:20260425T222447
CREATED:20250128T175024Z
LAST-MODIFIED:20250128T175025Z
UID:10000132-1738281600-1738367999@georgest.nbed.ca
SUMMARY:First Winter SPARK
DESCRIPTION:
URL:https://georgest.nbed.ca/calendar/first-winter-spark/
END:VEVENT
BEGIN:VEVENT
DTSTART;TZID=America/Moncton:20241230T000000
DTEND;TZID=America/Moncton:20250103T235959
DTSTAMP:20260425T222447
CREATED:20241125T175141Z
LAST-MODIFIED:20241125T175142Z
UID:10000130-1735516800-1735948799@georgest.nbed.ca
SUMMARY:Holiday Break
DESCRIPTION:
URL:https://georgest.nbed.ca/calendar/holiday-break-2/
END:VEVENT
BEGIN:VEVENT
DTSTART;TZID=America/Moncton:20241223T000000
DTEND;TZID=America/Moncton:20241227T235959
DTSTAMP:20260425T222447
CREATED:20241125T175037Z
LAST-MODIFIED:20241125T175039Z
UID:10000129-1734912000-1735343999@georgest.nbed.ca
SUMMARY:Holiday Break
DESCRIPTION:
URL:https://georgest.nbed.ca/calendar/holiday-break/
END:VEVENT
BEGIN:VEVENT
DTSTART;TZID=America/Moncton:20241220T000000
DTEND;TZID=America/Moncton:20241220T235959
DTSTAMP:20260425T222447
CREATED:20241125T174714Z
LAST-MODIFIED:20241125T174716Z
UID:10000128-1734652800-1734739199@georgest.nbed.ca
SUMMARY:Last day of classes before holiday break
DESCRIPTION:
URL:https://georgest.nbed.ca/calendar/last-day-of-classes-before-holiday-break/
END:VEVENT
BEGIN:VEVENT
DTSTART;TZID=America/Moncton:20241213T120000
DTEND;TZID=America/Moncton:20241213T120000
DTSTAMP:20260425T222447
CREATED:20241119T213435Z
LAST-MODIFIED:20241119T213435Z
UID:10000122-1734091200-1734091200@georgest.nbed.ca
SUMMARY:Chillapalooza
DESCRIPTION:Student fun night! Not only is this a dance but there will be many games and prizes. Join us for a winter lolapalooza!!!
URL:https://georgest.nbed.ca/calendar/chillapalooza/
ATTACH;FMTTYPE=image/jpeg:https://georgest.nbed.ca/wp-content/uploads/sites/32/2024/11/chill.jpg
END:VEVENT
BEGIN:VEVENT
DTSTART;TZID=America/Moncton:20241212T120000
DTEND;TZID=America/Moncton:20241212T120000
DTSTAMP:20260425T222447
CREATED:20241119T214100Z
LAST-MODIFIED:20241119T214103Z
UID:10000126-1734004800-1734004800@georgest.nbed.ca
SUMMARY:Turkey Dinner
DESCRIPTION:The cafeteria will be serving turkey dinner. This will be the feature menu item.
URL:https://georgest.nbed.ca/calendar/turkey-dinner-2/
END:VEVENT
BEGIN:VEVENT
DTSTART;TZID=America/Moncton:20241206T090000
DTEND;TZID=America/Moncton:20241206T120000
DTSTAMP:20260425T222447
CREATED:20241119T213930Z
LAST-MODIFIED:20241119T213932Z
UID:10000125-1733475600-1733486400@georgest.nbed.ca
SUMMARY:Parent Teacher meetings
DESCRIPTION:Parent teacher meetings will happen the evening of Dec. 5th and morning of Dec 6th. A link will be sent to schedule a meeting. There is no school on Dec 6th.
URL:https://georgest.nbed.ca/calendar/parent-teacher-meetings-2/
END:VEVENT
BEGIN:VEVENT
DTSTART;TZID=America/Moncton:20241205T170000
DTEND;TZID=America/Moncton:20241205T190000
DTSTAMP:20260425T222447
CREATED:20241119T213754Z
LAST-MODIFIED:20241119T213756Z
UID:10000124-1733418000-1733425200@georgest.nbed.ca
SUMMARY:Parent Teacher meetings
DESCRIPTION:Parent teacher meetings will happen the evening of Dec 5th and morning of Dec 6th.  A link will be sent to parents to schedule a meeting.
URL:https://georgest.nbed.ca/calendar/parent-teacher-meetings/
END:VEVENT
BEGIN:VEVENT
DTSTART;TZID=America/Moncton:20241202T120000
DTEND;TZID=America/Moncton:20241202T120000
DTSTAMP:20260425T222447
CREATED:20241119T213609Z
LAST-MODIFIED:20241119T213610Z
UID:10000123-1733140800-1733140800@georgest.nbed.ca
SUMMARY:Report Cards
DESCRIPTION:Report cards will be sent home Dec. 2nd.
URL:https://georgest.nbed.ca/calendar/report-cards/
END:VEVENT
BEGIN:VEVENT
DTSTART;TZID=America/Moncton:20241127T080000
DTEND;TZID=America/Moncton:20241127T170000
DTSTAMP:20260425T222447
CREATED:20241119T184355Z
LAST-MODIFIED:20241119T184356Z
UID:10000121-1732694400-1732726800@georgest.nbed.ca
SUMMARY:12 Days of Giving
DESCRIPTION:GSMS 12 Days of Giving in support of Liberty Lane. This campaign runs Nov 27-Dec 13.
URL:https://georgest.nbed.ca/calendar/12-days-of-giving/
END:VEVENT
BEGIN:VEVENT
DTSTART;TZID=America/Moncton:20241122T000000
DTEND;TZID=America/Moncton:20241122T235959
DTSTAMP:20260425T222447
CREATED:20241113T170313Z
LAST-MODIFIED:20241113T170459Z
UID:10000117-1732233600-1732319999@georgest.nbed.ca
SUMMARY:K-8 PL Day
DESCRIPTION:No school for students.
URL:https://georgest.nbed.ca/calendar/k-8-pl-day/
END:VEVENT
END:VCALENDAR